BEGIN:VCALENDAR
VERSION:2.0
PRODID:sonntagscout.de
X-PUBLISHED-TTL:P1W
BEGIN:VEVENT
UID:b80b8df2dc96f
DTSTART:20170623T220000Z
SEQUENCE:0
TRANSP:OPAQUE
DTEND:20170624T220000Z
LOCATION:Marktplatz 1, 73430 Aalen
SUMMARY:Lange Einkaufsnacht Aalen
CLASS:PUBLIC
DESCRIPTION:Lange Einkaufsnacht Aalen 24.06.2017 bis 24 Uhr.
[nbsp]
Veranstaltungsort: Innenstadt
DTSTAMP:20170624T220000Z
END:VEVENT
END:VCALENDAR
