BEGIN:VCALENDAR
VERSION:2.0
PRODID:sonntagscout.de
X-PUBLISHED-TTL:P1W
BEGIN:VEVENT
UID:8b313cbf30999
DTSTART:20151212T230000Z
SEQUENCE:0
TRANSP:OPAQUE
DTEND:20151213T230000Z
LOCATION:Buttermarkt 1, 47906 Kempen
SUMMARY:Verkaufsoffener Sonntag
CLASS:PUBLIC
DESCRIPTION:Veranstaltungsort: Innenstadt
DTSTAMP:20151213T230000Z
END:VEVENT
END:VCALENDAR
