BEGIN:VCALENDAR
VERSION:2.0
PRODID:sonntagscout.de
X-PUBLISHED-TTL:P1W
BEGIN:VEVENT
UID:afd7de3f825e5
DTSTART:20160430T220000Z
SEQUENCE:0
TRANSP:OPAQUE
DTEND:20160501T220000Z
LOCATION:Langestraat 1, 7511 Enschede &#40;Niederlande&#41;
SUMMARY:Verkaufsoffener Sonntag
CLASS:PUBLIC
DESCRIPTION:Veranstaltungsort: Innenstadt
DTSTAMP:20160501T220000Z
END:VEVENT
END:VCALENDAR
