BEGIN:VCALENDAR
VERSION:2.0
PRODID:sonntagscout.de
X-PUBLISHED-TTL:P1W
BEGIN:VEVENT
UID:747362c8d29bf
DTSTART:20171028T220000Z
SEQUENCE:0
TRANSP:OPAQUE
DTEND:20171029T220000Z
LOCATION:Markt 1, 48653 Coesfeld
SUMMARY:Verkaufsoffener Sonntag Coesfeld
CLASS:PUBLIC
DESCRIPTION:Verkaufsoffener Sonntag Coesfeld 29.10.2017 von 13 bis 18 Uhr.
[nbsp]
Veranstaltungsort: Innenstadt
DTSTAMP:20171029T220000Z
END:VEVENT
END:VCALENDAR
