BEGIN:VCALENDAR
VERSION:2.0
PRODID:sonntagscout.de
X-PUBLISHED-TTL:P1W
BEGIN:VEVENT
UID:a398c3759c3f9
DTSTART:20250412T220000Z
SEQUENCE:0
TRANSP:OPAQUE
DTEND:20250413T220000Z
LOCATION:Markt 1, 52349 Düren
SUMMARY:Verkaufsoffener Sonntag Düren - Frühlingsfest
CLASS:PUBLIC
DESCRIPTION:Verkaufsoffener Sonntag Düren 13.04.2025 von 13 bis 18 Uhr.
[nbsp]
Veranstaltungsort: Innenstadt
DTSTAMP:20250413T220000Z
END:VEVENT
END:VCALENDAR
