BEGIN:VCALENDAR
VERSION:2.0
PRODID:sonntagscout.de
X-PUBLISHED-TTL:P1W
BEGIN:VEVENT
UID:39409867f7441
DTSTART:20200919T220000Z
SEQUENCE:0
TRANSP:OPAQUE
DTEND:20200920T220000Z
LOCATION:Pfinztalstraße 33, 76227 Karlsruhe-Durlach
SUMMARY:Verkaufsoffener Sonntag Durlach
CLASS:PUBLIC
DESCRIPTION:Verkaufsoffener Sonntag Durlach 20.09.2020 von 13 bis 18 Uhr.
[nbsp]
Veranstaltungsort: Stadtteil Durlach
DTSTAMP:20200920T220000Z
END:VEVENT
END:VCALENDAR
