BEGIN:VCALENDAR
VERSION:2.0
PRODID:sonntagscout.de
X-PUBLISHED-TTL:P1W
BEGIN:VEVENT
UID:f76864d0b42c3
DTSTART:20190831T220000Z
SEQUENCE:0
TRANSP:OPAQUE
DTEND:20190901T220000Z
LOCATION:Alter Markt 1, 25335 Elmshorn
SUMMARY:Verkaufsoffener Sonntag Elmshorn
CLASS:PUBLIC
DESCRIPTION:Verkaufsoffener Sonntag Elmshorn 01.09.2019 von 12 bis 17 Uhr.
[nbsp]
Veranstaltungsort: Innenstadt
DTSTAMP:20190901T220000Z
END:VEVENT
END:VCALENDAR
