BEGIN:VCALENDAR
VERSION:2.0
PRODID:sonntagscout.de
X-PUBLISHED-TTL:P1W
BEGIN:VEVENT
UID:6f1098383b8d5
DTSTART:20260502T220000Z
SEQUENCE:0
TRANSP:OPAQUE
DTEND:20260503T220000Z
LOCATION:Berliner Straße 30, 33330 Gütersloh
SUMMARY:Verkaufsoffener Sonntag Gütersloh
CLASS:PUBLIC
DESCRIPTION:Verkaufsoffener Sonntag Gütersloh 03.05.2026
Zum Abschlusswochenende des Gütersloher Frühlings am 2. und 3.5.2026 steht „Gütersloh in voller Blüte”. Es gibt neue Dekorationstrends für Drinnen und Draußen rund um die Parklandschaft auf dem Berliner Platz zu sehen und zu kaufen. Für leckeres Essen und kühle Getränke ist in dieser Zeit gesorgt. Für Fahrrad- und Motorradfreunde lohnt sich an diesem Wochenende der Besuch des Stadtmuseums. Dort treffen sich die Pättkenschnüwer-Freunde und die Besitzer von historischen Fahrrädern, bevor sie auf Tour gehen.
Am 03.05.2026 lädt der Gütersloher Einzelhandel in der mit vielen Blumen geschmückten Innenstadt von 13 bis 18 Uhr zum Shoppen und Bummeln ein. Bei „Gütersloh in voller Blüte“ bieten die Gütersloh Marketing GmbH und die Werbegemeinschaft jedes Jahr die perfekte Gelegenheit ein letztes Mal den „Garten auf Zeit“ auf dem Berliner Platz zu genießen.
[nbsp]
DTSTAMP:20260503T220000Z
END:VEVENT
END:VCALENDAR
