BEGIN:VCALENDAR
VERSION:2.0
PRODID:sonntagscout.de
X-PUBLISHED-TTL:P1W
BEGIN:VEVENT
UID:ac5dd1eff7e03
DTSTART:20261107T230000Z
SEQUENCE:0
TRANSP:OPAQUE
DTEND:20261108T230000Z
LOCATION:Berliner Straße 30, 33330 Gütersloh
SUMMARY:Verkaufsoffener Sonntag Gütersloh
CLASS:PUBLIC
DESCRIPTION:Verkaufsoffener Sonntag Gütersloh 08.11.2026
Die „Lesestadt Gütersloh” stellt an zehn Tagen das Buch in den Mittelpunkt und feiert die Literatur und das Lesen mit vielfältigen Angeboten in Gütersloh. Bekannte Autorinnen und Autoren lesen an außergewöhnlichen Orten aus ihren aktuellen Werken. Dabei reicht die Bandbreite vom Krimi über Biografien bis hin zu Kinderbüchern.
Die gesamte Innenstadt wird zur Bühne für das Buch: So flanieren Schauspieler tagsüber in aufwändigen Kostümen durch die Gütersloher Innenstadt und zitieren aus Werken renommierter Dichter – so werden Goethe und Shakespeare, aber auch Jekyll und Hyde oder Winnetou in Güterslohs Straßen lebendig. Passend dazu öffnen die Einzelhändler ihre Türen von 13 – 18 Uhr.
[nbsp]
DTSTAMP:20261108T230000Z
END:VEVENT
END:VCALENDAR
