BEGIN:VCALENDAR
VERSION:2.0
PRODID:sonntagscout.de
X-PUBLISHED-TTL:P1W
BEGIN:VEVENT
UID:2c5f83d0bfb61
DTSTART:20260926T220000Z
SEQUENCE:0
TRANSP:OPAQUE
DTEND:20260927T220000Z
LOCATION:Berliner Straße 30, 33330 Gütersloh
SUMMARY:Verkaufsoffener Sonntag Gütersloh
CLASS:PUBLIC
DESCRIPTION:Verkaufsoffener Sonntag Gütersloh 27.09.2026
Wenn die Innenstadt zur (Straßen-)Showbühne wird, Kinder am Abend bei Stadtführungen unterwegs sind, im Mohns Park beim Taschenlampenkonzert abrocken und der Marktplatz zur großen Kirmes wird dann ist wieder Michaeliswoche. Die Veranstaltung wird von der Gütersloh Marketing (gtm) im Auftrag des Verkehrsvereins Gütersloh organisiert. Das Straßenkünstler-Festival wird durch die Volksbank Bielefeld-Gütersloh unterstützt. Zeitgleich öffnet der Gütersloher Einzelhandel von 13 bis 18 Uhr seine Türen.
DTSTAMP:20260927T220000Z
END:VEVENT
END:VCALENDAR
