BEGIN:VCALENDAR
VERSION:2.0
PRODID:sonntagscout.de
X-PUBLISHED-TTL:P1W
BEGIN:VEVENT
UID:4ddd8fd5a3e84
DTSTART:20200425T220000Z
SEQUENCE:0
TRANSP:OPAQUE
DTEND:20200426T220000Z
LOCATION:Hauptstraße 1, 97437 Haßfurt
SUMMARY:Verkaufsoffener Sonntag Haßfurt - Frühjahrsmarkt
CLASS:PUBLIC
DESCRIPTION:Verkaufsoffener Sonntag Haßfurt 26.04.2020 von 13 bis 18 Uhr.
[nbsp]
Veranstaltungsort: Innenstadt
DTSTAMP:20200426T220000Z
END:VEVENT
END:VCALENDAR
