BEGIN:VCALENDAR
VERSION:2.0
PRODID:sonntagscout.de
X-PUBLISHED-TTL:P1W
BEGIN:VEVENT
UID:90ccff101868b
DTSTART:20191019T220000Z
SEQUENCE:0
TRANSP:OPAQUE
DTEND:20191020T220000Z
LOCATION:Hauptstraße 1, 63814 Mainaschaff
SUMMARY:Verkaufsoffener Sonntag - Herbstmarkt
CLASS:PUBLIC
DESCRIPTION:Veranstaltungsort: Innenstadt
DTSTAMP:20191020T220000Z
END:VEVENT
END:VCALENDAR
