BEGIN:VCALENDAR
VERSION:2.0
PRODID:sonntagscout.de
X-PUBLISHED-TTL:P1W
BEGIN:VEVENT
UID:e231a950ed2aa
DTSTART:20170401T220000Z
SEQUENCE:0
TRANSP:OPAQUE
DTEND:20170402T220000Z
LOCATION:Kopernikusstr. 2, 85221 Dachau
SUMMARY:Verkaufsoffener Sonntag im InCenter
CLASS:PUBLIC
DESCRIPTION:Das InCenter Dachau lädt zum verkaufsoffenen Sonntag am 02.04.2017 von 12:00 bis 18:00 Uhr ein.
DTSTAMP:20170402T220000Z
END:VEVENT
END:VCALENDAR
