BEGIN:VCALENDAR
VERSION:2.0
PRODID:sonntagscout.de
X-PUBLISHED-TTL:P1W
BEGIN:VEVENT
UID:5bf496834d830
DTSTART:20181006T220000Z
SEQUENCE:0
TRANSP:OPAQUE
DTEND:20181007T220000Z
LOCATION:Baumgarten 12, 48565 Steinfurt
SUMMARY:Verkaufsoffener Sonntag Jeans Fritz Steinfurt
CLASS:PUBLIC
DESCRIPTION:Verkaufsoffener Sonntag Jeans Fritz Steinfurt 07.10.2018 von 13 bis 18 Uhr.
[nbsp]

Unsere Filiale im Einkaufszentrum Baumgarten hat für Sie geöffnet.

DTSTAMP:20181007T220000Z
END:VEVENT
END:VCALENDAR
