BEGIN:VCALENDAR
VERSION:2.0
PRODID:sonntagscout.de
X-PUBLISHED-TTL:P1W
BEGIN:VEVENT
UID:3c3961f8fc1f9
DTSTART:20251101T230000Z
SEQUENCE:0
TRANSP:OPAQUE
DTEND:20251102T230000Z
LOCATION:Marktplatz 1, 73230 Kirchheim unter Teck
SUMMARY:Verkaufsoffener Sonntag Kirchheim - Gallusmarkt
CLASS:PUBLIC
DESCRIPTION:Verkaufsoffener Sonntag Kirchheim 02.11.2025 von 12:30 bis 17:30 Uhr.
[nbsp]
Veranstaltungsort: Innenstadt
DTSTAMP:20251102T230000Z
END:VEVENT
END:VCALENDAR
