BEGIN:VCALENDAR
VERSION:2.0
PRODID:sonntagscout.de
X-PUBLISHED-TTL:P1W
BEGIN:VEVENT
UID:01ee2e65c1b26
DTSTART:20211023T220000Z
SEQUENCE:0
TRANSP:OPAQUE
DTEND:20211024T220000Z
LOCATION:Ulmer Straße 1, 72555 Metzingen
SUMMARY:Verkaufsoffener Sonntag Metzingen
CLASS:PUBLIC
DESCRIPTION:Verkaufsoffener Sonntag Metzingen 24.10.2021 von 13 bis 18 Uhr.
[nbsp]
veranstaltungsort: Innenstadt
DTSTAMP:20211024T220000Z
END:VEVENT
END:VCALENDAR
