BEGIN:VCALENDAR
VERSION:2.0
PRODID:sonntagscout.de
X-PUBLISHED-TTL:P1W
BEGIN:VEVENT
UID:bbecdaa14b7f8
DTSTART:20191019T220000Z
SEQUENCE:0
TRANSP:OPAQUE
DTEND:20191020T220000Z
LOCATION:Am Markt 1, 26506 Norden
SUMMARY:Verkaufsoffener Sonntag Norden - Beestmarkt
CLASS:PUBLIC
DESCRIPTION:Verkaufsoffener Sonntag Norden 20.10.2019 von 13 bis 18 Uhr.
[nbsp]
Veranstaltungsort: Innenstadt
DTSTAMP:20191020T220000Z
END:VEVENT
END:VCALENDAR
