BEGIN:VCALENDAR
VERSION:2.0
PRODID:sonntagscout.de
X-PUBLISHED-TTL:P1W
BEGIN:VEVENT
UID:f2bff080785c7
DTSTART:20200425T220000Z
SEQUENCE:0
TRANSP:OPAQUE
DTEND:20200426T220000Z
LOCATION:Obertorplatz 1, 78727 Oberndorf am Neckar
SUMMARY:Verkaufsoffener Sonntag Oberndorf - Frühlingsfest
CLASS:PUBLIC
DESCRIPTION:Verkaufsoffener Sonntag Oberndorf 26.04.2020 von 13 bis 18 Uhr.
[nbsp]
Veranstaltungsort: Innenstadt
DTSTAMP:20200426T220000Z
END:VEVENT
END:VCALENDAR
