BEGIN:VCALENDAR
VERSION:2.0
PRODID:sonntagscout.de
X-PUBLISHED-TTL:P1W
BEGIN:VEVENT
UID:5751693536add
DTSTART:20260801T220000Z
SEQUENCE:0
TRANSP:OPAQUE
DTEND:20260802T220000Z
LOCATION:Rathausplatz 1, 33098 Paderborn
SUMMARY:Verkaufsoffener Sonntag Paderborn
CLASS:PUBLIC
DESCRIPTION:Verkaufsoffener Sonntag Paderborn 02.08.2026 von 13 bis 18 Uhr.
[nbsp]
Veranstaltungsort: Innenstadt
DTSTAMP:20260802T220000Z
END:VEVENT
END:VCALENDAR
