BEGIN:VCALENDAR
VERSION:2.0
PRODID:sonntagscout.de
X-PUBLISHED-TTL:P1W
BEGIN:VEVENT
UID:bc6f2eace6045
DTSTART:20260926T220000Z
SEQUENCE:0
TRANSP:OPAQUE
DTEND:20260927T220000Z
LOCATION:Nordstraße 40, 40477 Düsseldorf-Pempelfort
SUMMARY:Verkaufsoffener Sonntag Pempelfort
CLASS:PUBLIC
DESCRIPTION:Verkaufsoffener Sonntag Pempelfort 27.09.2026 von 13 bis 18 Uhr.
[nbsp]
Veranstaltungsort: Stadtteil Pempelfort
DTSTAMP:20260927T220000Z
END:VEVENT
END:VCALENDAR
