BEGIN:VCALENDAR
VERSION:2.0
PRODID:sonntagscout.de
X-PUBLISHED-TTL:P1W
BEGIN:VEVENT
UID:81361e46e82b3
DTSTART:20191102T230000Z
SEQUENCE:0
TRANSP:OPAQUE
DTEND:20191103T230000Z
LOCATION:Hans-Grade-Straße 1, 04509 Wiedemar
SUMMARY:Verkaufsoffener Sonntag Wiedemar - Hubertusfest
CLASS:PUBLIC
DESCRIPTION:Verkaufsoffener Sonntag Wiedemar 03.11.2019 von 12 bis 18 Uhr.
[nbsp]
Veranstaltungsort: Gewerbegebiet Air Terminal Nord
DTSTAMP:20191103T230000Z
END:VEVENT
END:VCALENDAR
