BEGIN:VCALENDAR
VERSION:2.0
PRODID:sonntagscout.de
X-PUBLISHED-TTL:P1W
BEGIN:VEVENT
UID:897c1eac194eb
DTSTART:20181006T220000Z
SEQUENCE:0
TRANSP:OPAQUE
DTEND:20181007T220000Z
LOCATION:Neustr. 23-25, 46535 Dinslaken
SUMMARY:Verkaufsoffener Sonntag Woolworth Dinslaken
CLASS:PUBLIC
DESCRIPTION:Verkaufsoffener Sonntag Woolworth Dinslaken 07.10.2018
DTSTAMP:20181007T220000Z
END:VEVENT
END:VCALENDAR
