BEGIN:VCALENDAR
VERSION:2.0
PRODID:sonntagscout.de
X-PUBLISHED-TTL:P1W
BEGIN:VEVENT
UID:cfbb42c99e651
DTSTART:20170722T220000Z
SEQUENCE:0
TRANSP:OPAQUE
DTEND:20170723T220000Z
LOCATION:Marktplatz 2, 95632 Wunsiedel
SUMMARY:Verkaufsoffener Sonntag Wunsiedel - Jakobimarkt
CLASS:PUBLIC
DESCRIPTION:Verkaufsoffener Sonntag Wunsiedel 23.07.2017 von 13 bis 18 Uhr.
[nbsp]
Veranstaltungsort: Innenstadt
DTSTAMP:20170723T220000Z
END:VEVENT
END:VCALENDAR
