BEGIN:VCALENDAR
VERSION:2.0
PRODID:sonntagscout.de
X-PUBLISHED-TTL:P1W
BEGIN:VEVENT
UID:48d91c10005e3
DTSTART:20221209T230000Z
SEQUENCE:0
TRANSP:OPAQUE
DTEND:20221210T230000Z
LOCATION: , 31737 Rinteln
SUMMARY:Verlängerte/Verkürzte Öffnungszeiten Woolworth Rinteln
CLASS:PUBLIC
DESCRIPTION:Verlängerte/Verkürzte Öffnungszeiten Woolworth Rinteln 10.12.2022
DTSTAMP:20221210T230000Z
END:VEVENT
END:VCALENDAR
