BEGIN:VCALENDAR
VERSION:2.0
PRODID:sonntagscout.de
X-PUBLISHED-TTL:P1W
BEGIN:VEVENT
UID:7991414f1fb14
DTSTART:20221209T230000Z
SEQUENCE:0
TRANSP:OPAQUE
DTEND:20221210T230000Z
LOCATION: , 63069 Offenbach Ringcenter
SUMMARY:Verlängerte/Verkürzte Öffnungszeiten Woolworth Offenbach Ringcen
CLASS:PUBLIC
DESCRIPTION:Verlängerte/Verkürzte Öffnungszeiten Woolworth Offenbach Ringcenter 10.12.2022
DTSTAMP:20221210T230000Z
END:VEVENT
END:VCALENDAR
